BEGIN:VCALENDAR
VERSION:2.0
PRODID:-//https://proficiency.services///NONSGML kigkonsult.se iCalcreator 2.10.15//
METHOD:PUBLISH
BEGIN:VEVENT
UID:20260422T155507UTC-00281SIwSh@https://proficiency.services/
DTSTAMP:20260422T155507Z
DESCRIPTION:Pre-Booking required please\nOne of our regular (monthly) speak
 er meetings comprising an industry update and guest CPD speaker(s). Follow
 ing a brief introduction\, the agenda will be:\n\nProficiency update / ind
 ustry news\nNew RdSAP Conventions going live 1st March\nUpcoming changes t
 o Part L of the Building Regulations (brief overview)\nDomestic EPC smart 
 rules\nSAP / RdSAP for post 2008 builds\nCross scheme guidance on Party Wa
 lls and Postcode Changes\n\nWe will then pick up any specific AOB items ta
 bled for the meeting or carried forward from the previous meeting.\nThis i
 s followed by an open floor discussion and networking session to close the
  meeting.\nThis event is FREE for Proficiency members. It is open to non-m
 embers at a cost of £20\nAttendance certificates will be added to the memb
 er's  CPD record. Non-members will be provided with an attendance certific
 ate to enable them to claim the CPD time. https://proficiency.services/eve
 nts/events-calendar/event/288-proficiency-regular-speaker-meeting-2-3-2022
DTSTART:20220302T180000Z
DTEND:20220302T193000Z
LOCATION:Online ()
SUMMARY:Proficiency Regular Speaker Meeting (2/3/2022)
URL:https://proficiency.services/events/events-calendar/event/288-proficien
 cy-regular-speaker-meeting-2-3-2022
END:VEVENT
END:VCALENDAR
