BEGIN:VCALENDAR
VERSION:2.0
PRODID:-//https://proficiency.services///NONSGML kigkonsult.se iCalcreator 2.10.15//
METHOD:PUBLISH
BEGIN:VEVENT
UID:20260422T143648UTC-2432TZIECD@https://proficiency.services/
DTSTAMP:20260422T143648Z
DESCRIPTION:One of our regular (monthly) speaker meetings comprising an ind
 ustry update and guest CPD speaker. \nIntroduction to the Residential Prop
 erty Surveyors Association (RPSA)\nThis event is for anyone involved in:-E
 nergy AssessmentSnaggingInventoriesDilapidationsInsurance AssessmentTimber
  & Damp...and associated activities\nRPSA Chairman\, Alan Milstein\, will 
 be talking us through the benefits and reasons for the new RPSA Technical 
 and Affiliate membership levels which now provide additional options for e
 nergy assessors. It is important for Proficiency and MEP members (and othe
 r practicing energy assessors) to be aware of how the industry and our pla
 ce in it is changing.\nFor more information on the relationship between Pr
 oficiency\, MEP and the RPSA read our news article at Energy Assessor Alli
 ance growing stronger (proficiency.services)\nAttendance certificates will
  be added to the Proficiency member's  CPD record. Non-members will be pro
 vided with an attendance certificate to enable them to claim the CPD time.
   https://proficiency.services/events/events-calendar/event/287-alliance-u
 pdate-meeting-5-4-2022-introduction-to-the-rpsa
DTSTART:20220405T170000Z
DTEND:20220405T183000Z
LOCATION:Online ()
SUMMARY:Alliance Update Meeting (5/4/2022) - Introduction to the RPSA
URL:https://proficiency.services/events/events-calendar/event/287-alliance-
 update-meeting-5-4-2022-introduction-to-the-rpsa
END:VEVENT
END:VCALENDAR
