BEGIN:VCALENDAR
VERSION:2.0
PRODID:-//https://proficiency.services///NONSGML kigkonsult.se iCalcreator 2.10.15//
METHOD:PUBLISH
BEGIN:VEVENT
UID:20260422T143719UTC-0315hZNbZ2@https://proficiency.services/
DTSTAMP:20260422T143719Z
DESCRIPTION:TrustMark is the Government Endorsed Quality Scheme that covers
  work a consumer chooses to have carried out in or around their home. They
  are at the very core of Retrofit.\nTrustMark licences and audits over 35 
 Scheme Providers with over 15\,000 Registered Businesses. These encompass 
 156 different service types and include everything you might expect: plumb
 ers\, electricians and builders to a few you might not: carpet cleaners\, 
 landscape gardeners and leadwork specialists\, plus most trades in-between
 .\nWe are fortunate to be able to have Phil Mason\, Head of Regulatory Eng
 agement\, talk to us about Retrofit\, where it is now and where it is head
 ing next.\nThere will be the opportunity to ask questions on subjects such
  as ECO4\, the route to market for Retrofit Assessors and auditing require
 ments. It is a high value event for anyone engaged in Retrofit\, or thinki
 ng of becoming engaged in it.\nThis event is FREE for Proficiency members.
  It is open to non-members at a cost of just £20 \nAttendance certificates
  will be added to the member's  CPD record. Non-members will be provided w
 ith an attendance certificate to enable them to claim the CPD time. https:
 //proficiency.services/events/events-calendar/event/289-retrofit-cpd-prese
 ntation-1-hour-bite-size-session
DTSTART:20220413T150000Z
DTEND:20220413T160000Z
LOCATION:Online ()
SUMMARY:Retrofit CPD Presentation (1 Hour Bite-Size Session)
URL:https://proficiency.services/events/events-calendar/event/289-retrofit-
 cpd-presentation-1-hour-bite-size-session
END:VEVENT
END:VCALENDAR
