BEGIN:VCALENDAR
VERSION:2.0
PRODID:-//https://proficiency.services///NONSGML kigkonsult.se iCalcreator 2.10.15//
METHOD:PUBLISH
BEGIN:VEVENT
UID:20260421T160443UTC-1533oLAkzL@https://proficiency.services/
DTSTAMP:20260421T160443Z
DESCRIPTION:Bookings for this event WILL CLOSE AT MID-DAY on 5th September
 \nUnderstanding how Energy Performance Improvements Impact Property Value.
 We bring you a talk from the author of an article examining the added valu
 e of enhancing your home's energy performance\, while considering the comp
 lexities that arise when retrofit projects are accompanied by other value-
 adding renovations.\nPre-Booking is required.\nOne of our regular (monthly
 ) speaker meetings comprising an industry update and a guest speaker\, Mik
 e Joyner\, Chief Data Scientist at Bricks&Logic.\nFollowing a brief introd
 uction\, the agenda will be:\n\nProficiency brief update / industry news\n
 Main session - Energy performance improvements that add the most value\n\n
 \n\nThe relationship between home improvements and property value\nExplori
 ng the relationship between improving energy performance and perceived con
 dition\nThe economic benefits for making a property greener\nHow Bricks&Lo
 gic is helping clients navigate this area\nThe Bricks&Logic green automate
 d valuation model (AVM)\nAvailable tools for Estate Agents and Energy Asse
 ssors\n\n\n\n\n\nWe will then pick up any specific AOB items tabled for th
 e meeting or carried forward from the previous meeting.\nThis is followed 
 by an open floor discussion and networking session to close the meeting. E
 xpect this to finish around 5:30 pm but allow some flexibility if you can 
 an there is a lot to gained from the open discussions and networking at th
 e end.\nThis event is FREE for Proficiency members. It is open to non-memb
 ers at a cost of £20. (It makes more sense to join and get at least 12 ses
 sions like this for free in the year).\nAttendance certificates will be ad
 ded to the member's  CPD record. Non-members will be provided with an atte
 ndance certificate to enable them to claim at least an hour of relevant CP
 D.\nNOT A MEMBER? Join for just £60 and get free access to this and at lea
 st 12 hours of CPD like this\, and a listing on the website.(For just £25 
 more\, as a Premium member get an enhanced listing and other benefits).See
  Membership Benefits (proficiency.services)\nHOW IT WORKS - Please read ca
 refully\nYou will be sent joining instructions and/or the relevant link ah
 ead of the meeting. This is typically sent out about 1 day ahead of the ev
 ent. For online events we generally use Zoom.\nAround 24 hours ahead of th
 e event you will receive a link to register for the event. You can do this
  any time from then until just before the meeting starts. Once you have re
 gistered you will receive the actual meeting link. Please ensure you regis
 ter using your correct full name. This ensures you will get the right name
  on your CPD certificate (if applicable)\,\n(If there is less than 24 hour
 s to go\, please check your junk / spam folder before contacting us to say
  you haven't received the link. It will probably be there. If it is not th
 en do contact events@proficiency.services but don't leave it to the last m
 inute. Once we have started to set up for the session we will not be able 
 to take calls or respond to emails).\nPlease also ensure you have tested y
 our set up and both your audio and video are working. If we cannot see you
  are present we may not be able to issue you with a CPD certificate. If yo
 u know in advance that you will not have video capability\, please email e
 vents@proficiency.services and we will agree an alternative way in which t
 he organisers can verify you were actually present (and hopefully paying a
 ttention) for the entire session.\nIf you need to briefly deal with someth
 ing like an urgent phone call during the session\, please turn your video 
 off whilst you do so to avoid a distraction to other attendees. Video off 
 for short periods of absence will not affect eligibility for CPD certifica
 tes. Prolonged periods of absence or where video is off so you could be ab
 sent\, will prevent us being able to issue a CPD certificate. This verific
 ation of your presence is essential for us to ensure that the value of Pro
 ficiency CPD certificates is maintained so they can be accepted by accredi
 tation schemes. \n(There are no refunds where CPD certificates cannot be i
 ssued due to only partial attendance at an event). https://proficiency.ser
 vices/events/events-calendar/event/323-cpd-speaker-meeting-5th-september-2
 023-energy-performance-improvements-that-add-the-most-value
DTSTART:20230905T150000Z
DTEND:20230905T163000Z
LOCATION:Online ()
SUMMARY:CPD Speaker Meeting (5th September 2023) - Energy performance impro
 vements that add the most value
URL:https://proficiency.services/events/events-calendar/event/323-cpd-speak
 er-meeting-5th-september-2023-energy-performance-improvements-that-add-the
 -most-value
END:VEVENT
END:VCALENDAR
