BEGIN:VCALENDAR
VERSION:2.0
PRODID:-//https://proficiency.services///NONSGML kigkonsult.se iCalcreator 2.10.15//
METHOD:PUBLISH
BEGIN:VEVENT
UID:20260420T215757UTC-5766w7vkFk@https://proficiency.services/
DTSTAMP:20260420T215757Z
DESCRIPTION:A highly relevant CPD session presented by Iain Duncan of tepeo
 .\nPre-Booking is required.Bookings for this event will close at midnight 
 the day before the event.\nDry Core Boilers – An alternative to ASHP?\ntep
 eo was founded in 2018 to give customers a low cost\, low carbon\, smart a
 nd yet simple route off of fossil fuel heating and launched the ZEB in 202
 1. (Book this CPD to learn about ZEB). This session will provide assessors
  across all strands with valuable insight into an often overlooked but hig
 hly relevant technology.\nFollowing a brief introduction\, the agenda will
  be:\n\n\nProficiency brief update / industry news\n\nDry Core Boilers – T
 opics likely to be covered include...\n\n\nWhere Dry Core Boilers are suit
 able and what the benefits are\n\n\nDry Core Boilers as a Heat Battery (Qu
 alifying for funding)\n\n\nCost comparison against heat pumps\n\n\nIntegra
 tion to solar\n\n\nUse as an innovative approach to decarbonisation of hea
 t\n\n\nSolutions for terraced properties and mixed tenure locations\n\n\nS
 mart feature integrations\n\n\nLeveraging flexible solutions to avoid peak
  electricity demand\n\n\n\n\n\nWe will then pick up any specific AOB items
  tabled for the meeting or carried forward from the previous meeting.\nThi
 s is followed by an open floor discussion and networking session to close 
 the meeting. Expect this to finish around 5:30 pm but allow some flexibili
 ty if you can as there is a lot to gained from the open discussions and ne
 tworking at the end.\nThis event is FREE for Proficiency members. It is op
 en to non-members at a cost of £25. (It makes more sense to join and get a
 t least 12 sessions like this for free in the year)\nAttendance certificat
 es will be added to the member's  CPD record. Non-members will be provided
  with an attendance certificate to enable them to claim at least an hour o
 f relevant CPD.\nNOT A MEMBER? Join for just £60 and get free access to th
 is and at least 12 hours of CPD like this\, and a listing on the website.(
 For just £25 more\, as a Premium member get an enhanced listing and other 
 benefits).See Membership Benefits (proficiency.services)\n \nHOW IT WORKS 
 - Please read carefully\nYou will be sent joining instructions and/or the 
 relevant link ahead of the meeting. This is typically sent out about 1 day
  ahead of the event. For online events we generally use Zoom.\nAround 24 h
 ours ahead of the event you will receive a link to register for the event.
  You can do this any time from then until just before the meeting starts. 
 Once you have registered you will receive the actual meeting link. Please 
 ensure you register using your correct full name. This ensures you will ge
 t the right name on your CPD certificate (if applicable)\,\n(If there is l
 ess than 24 hours to go\, please check your junk / spam folder before cont
 acting us to say you haven't received the link. It will probably be there.
  If it is not then do contact events@proficiency.services but don't leave 
 it to the last minute. Once we have started to set up for the session we w
 ill not be able to take calls or respond to emails).\nPlease also ensure y
 ou have tested your set up and both your audio and video are working. If w
 e cannot see you are present we may not be able to issue you with a CPD ce
 rtificate. If you know in advance that you will not have video capability\
 , please email events@proficiency.services and we will agree an alternativ
 e way in which the organisers can verify you were actually present (and ho
 pefully paying attention) for the entire session.\nIf you need to briefly 
 deal with something like an urgent phone call during the session\, please 
 turn your video off whilst you do so to avoid a distraction to other atten
 dees. Video off for short periods of absence will not affect eligibility f
 or CPD certificates. Prolonged periods of absence or where video is off so
  you could be absent\, will prevent us being able to issue a CPD certifica
 te. This verification of your presence is essential for us to ensure that 
 the value of Proficiency CPD certificates is maintained so they can be acc
 epted by accreditation schemes. \n(There are no refunds where CPD certific
 ates cannot be issued due to only partial attendance at an event). https:/
 /proficiency.services/events/events-calendar/event/364-cpd-speaker-meeting
 -24th-oct-dry-core-boilers
DTSTART:20241024T150000Z
DTEND:20241024T163000Z
LOCATION:Online ()
SUMMARY:CPD Speaker Meeting (24th Oct) - Dry Core Boilers 
URL:https://proficiency.services/events/events-calendar/event/364-cpd-speak
 er-meeting-24th-oct-dry-core-boilers
END:VEVENT
END:VCALENDAR
