BEGIN:VCALENDAR
VERSION:2.0
PRODID:-//https://proficiency.services///NONSGML kigkonsult.se iCalcreator 2.10.15//
METHOD:PUBLISH
BEGIN:VEVENT
UID:20260420T193218UTC-4882oIZkDN@https://proficiency.services/
DTSTAMP:20260420T193218Z
DESCRIPTION:A highly relevant CPD session presented by Ross Hopgood of epIM
 S.\nPre-Booking is required.Bookings for this event will close at midnight
  the day before the event.\nAdding value to your EPC\nHow to recommend cos
 ted solutions using the latest energy saving technology that are measurabl
 e\, effective\, unbiased\, evidence based and rated by disruption level.\n
 PLEASE NOTE - This will definitely be highly relevant to DEAs and RAs. The
  session may well be interesting for NDEAs\, but will be less directly rel
 evant currently. epIMS will be looking to create a non-domestic equivalent
  package in due course\, but that is a little way off yet.\nFollowing a br
 ief introduction\, the agenda will be:\n\n\nProficiency brief update / ind
 ustry news\n\nAdding value to your EPC\n\n\n\nIntro\nWhat makes a good ass
 essment\nExamples of good and bad data collections\nBuilding on the custom
 er relationship by adding value to the EPC\nMonetising the Information fro
 m your EPC\nIntegrating other available data and generating detailed and c
 osted recommendations\nIdentifying grant funding opportunities\n\n\n\n\n\n
 \nWe will then pick up any specific AOB items tabled for the meeting or ca
 rried forward from the previous meeting.\nThis is followed by an open floo
 r discussion and networking session to close the meeting. Expect this to f
 inish around 5:30 pm but allow some flexibility if you can as there is a l
 ot to gained from the open discussions and networking at the end.\nThis ev
 ent is FREE for Proficiency members. It is open to non-members at a cost o
 f £25. (It makes more sense to join and get at least 12 sessions like this
  for free in the year)\nAttendance certificates will be added to the membe
 r's  CPD record. Non-members will be provided with an attendance certifica
 te to enable them to claim at least an hour of relevant CPD.\nNOT A MEMBER
 ? Join for just £60 and get free access to this and at least 12 hours of C
 PD like this\, and a listing on the website.(For just £25 more\, as a Prem
 ium member get an enhanced listing and other benefits).See Membership Bene
 fits (proficiency.services)\n \nHOW IT WORKS - Please read carefully\nYou 
 will be sent joining instructions and/or the relevant link ahead of the me
 eting. This is typically sent out about 1 day ahead of the event. For onli
 ne events we generally use Zoom.\nAround 24 hours ahead of the event you w
 ill receive a link to register for the event. You can do this any time fro
 m then until just before the meeting starts. Once you have registered you 
 will receive the actual meeting link. Please ensure you register using you
 r correct full name. This ensures you will get the right name on your CPD 
 certificate (if applicable)\,\n(If there is less than 24 hours to go\, ple
 ase check your junk / spam folder before contacting us to say you haven't 
 received the link. It will probably be there. If it is not then do contact
  events@proficiency.services but don't leave it to the last minute. Once w
 e have started to set up for the session we will not be able to take calls
  or respond to emails).\nPlease also ensure you have tested your set up an
 d both your audio and video are working. If we cannot see you are present 
 we may not be able to issue you with a CPD certificate. If you know in adv
 ance that you will not have video capability\, please email events@profici
 ency.services and we will agree an alternative way in which the organisers
  can verify you were actually present (and hopefully paying attention) for
  the entire session.\nIf you need to briefly deal with something like an u
 rgent phone call during the session\, please turn your video off whilst yo
 u do so to avoid a distraction to other attendees. Video off for short per
 iods of absence will not affect eligibility for CPD certificates. Prolonge
 d periods of absence or where video is off so you could be absent\, will p
 revent us being able to issue a CPD certificate. This verification of your
  presence is essential for us to ensure that the value of Proficiency CPD 
 certificates is maintained so they can be accepted by accreditation scheme
 s. \n(There are no refunds where CPD certificates cannot be issued due to 
 only partial attendance at an event). https://proficiency.services/events/
 events-calendar/event/365-cpd-speaker-meeting-12th-dec-adding-value-to-you
 r-epc
DTSTART:20241212T160000Z
DTEND:20241212T173000Z
LOCATION:Online ()
SUMMARY:CPD Speaker Meeting (12th Dec) - Adding value to your EPC
URL:https://proficiency.services/events/events-calendar/event/365-cpd-speak
 er-meeting-12th-dec-adding-value-to-your-epc
END:VEVENT
END:VCALENDAR
