BEGIN:VCALENDAR
VERSION:2.0
PRODID:-//https://proficiency.services///NONSGML kigkonsult.se iCalcreator 2.10.15//
METHOD:PUBLISH
BEGIN:VEVENT
UID:20260420T040607UTC-8813EavUu1@https://proficiency.services/
DTSTAMP:20260420T040607Z
DESCRIPTION:This is a significant non-Proficiency event in the CPD calendar
  that we would expect to be a worthwhile day for many of our members. Ther
 e are discount codes for Elmhurst or Stroma members which have been sent o
 ut to those members directly. \nWe are not involved directly in this event
  so full details and booking will be accessed via Elmhurst HERE  https://p
 roficiency.services/events/events-calendar/event/301-elmhurst-stroma-confe
 rence
DTSTART:20230125T100000Z
DTEND:20230125T160000Z
LOCATION:King Power Stadium\, Leicester (Filbert Wy\, Leicester LE2 7FL\, U
 K)
SUMMARY:Elmhurst / Stroma Conference
URL:https://proficiency.services/events/events-calendar/event/301-elmhurst-
 stroma-conference
END:VEVENT
END:VCALENDAR
