BEGIN:VCALENDAR
VERSION:2.0
PRODID:-//https://proficiency.services///NONSGML kigkonsult.se iCalcreator 2.10.15//
METHOD:PUBLISH
BEGIN:VEVENT
UID:20260422T041514UTC-9665xhRI8s@https://proficiency.services/
DTSTAMP:20260422T041514Z
DESCRIPTION:This event is open to members only. Please book early as if it 
 is too popular we may need to limit numbers.\nBack by popular demand...\nA
 s a result of excellent feedback last year\, we are again making the Decem
 ber meeting a social event rather than a CPD one.\nWe are not going to pro
 vide you with full details because that would spoil the fun. We can howeve
 r confirm the following...\n1) It will be interactive so please make sure 
 you have video and audio working (if your normal device isn't up to it beg
 \, borrow or steal one that is)2) It is a bring a bottle party (bring a bo
 ttle of whatever you fancy to your own desk - just don't spill it on the k
 eyboard)3) Snacks will be provided (by you from your own cupboard / fridge
 )4) Fancy dress is optional (but we encourage everyone to wear at least on
 e thing that is seasonal)5) There is only one place per member but if your
  significant other is willing to appear on your video feed and can help yo
 u with some of the answers that is an acceptable form of cheating (but if 
 they answer more right than you do - we will forever know!)\nLast year the
  (Virtual) Christmas Party lasted about 2 hours so we would expect this ye
 ar to be around the same.\n \nWe are well ahead of our objective of provid
 ing a minimum of 12 hours free CPD for members this year and next year is 
 already looking like it will also be well up on that figure. For this reas
 on\, we are comfortable making the meeting in the lead up to Christmas a s
 ocial one again. We already have a high value CPD arranged for you in Janu
 ary and several others in the pipeline that will make 2023 a year where me
 eting your mandatory CPD requirements should be pretty simple. https://pro
 ficiency.services/events/events-calendar/event/303-proficiency-virtual-chr
 istmas-party
DTSTART:20221221T190000Z
DTEND:20221221T210000Z
LOCATION:Online ()
SUMMARY:Proficiency (Virtual) Christmas Party
URL:https://proficiency.services/events/events-calendar/event/303-proficien
 cy-virtual-christmas-party
END:VEVENT
END:VCALENDAR
