BEGIN:VCALENDAR
VERSION:2.0
PRODID:-//https://proficiency.services///NONSGML kigkonsult.se iCalcreator 2.10.15//
METHOD:PUBLISH
BEGIN:VEVENT
UID:20260421T223321UTC-5813JnhuUO@https://proficiency.services/
DTSTAMP:20260421T223321Z
DESCRIPTION:This is not a Proficiency event but it is one we highly recomme
 nd. The PEPA conferences are an excellent opportunity to understand the wi
 der context of what we do. \nBooking is via Eventbrite. For more informati
 on and/or to book visit https://www.pepassociation.org/2023/03/01/pepa-vir
 tual-conference-19th-april-2023/\nThe full price is £65 but there is an ea
 rly-bird rate of £55 available until 7th April 2023. It is valid for 4 hou
 rs of CPD. \nCompared to your 12 hours plus of CPD included in your Profic
 iency membership (at just £60 or £85) that may not look like a bargain\, b
 ut the PEPA conference is high quality CPD and we believe well worth the c
 ost.  \nIf you can only afford one or the other you will get more from a P
 roficiency membership. However\, if you can afford both then do both as th
 ey are both great value. https://proficiency.services/events/events-calend
 ar/event/319-pepa-virtual-conference
DTSTART:20230419T090000Z
DTEND:20230419T140000Z
LOCATION:Online ()
SUMMARY:PEPA Virtual Conference
URL:https://proficiency.services/events/events-calendar/event/319-pepa-virt
 ual-conference
END:VEVENT
END:VCALENDAR
