BEGIN:VCALENDAR
VERSION:2.0
PRODID:-//https://proficiency.services///NONSGML kigkonsult.se iCalcreator 2.10.15//
METHOD:PUBLISH
BEGIN:VEVENT
UID:20260421T144222UTC-8977LaXLaR@https://proficiency.services/
DTSTAMP:20260421T144222Z
DESCRIPTION:Bookings for this event WILL CLOSE AT MID-DAY on 17th October\n
 DesignBuilder Modelling for EPCs.DesignBuilder is a comprehensive software
  and there are multiple ways to approach modelling some aspects. It is alw
 ays useful to see how others do it\, and compare with what you do. This is
  a great opportunity to pick up tips that will improve your workflow. Even
  highly experienced DesignBuilder users should have some 'I didn't realise
  I could do it that way' moments.\nPre-Booking is required.\nThis is an on
 line CPD session primarily for existing DesignBuilder users\nIt will also 
 be highly suitable for anyone considering whether to upgrade to using Desi
 gnBuilder.\nNDEAs who do not use DesignBuilder\, or intend to do so\, may 
 still benefit from seeing how envelopes are handled in 3D as it helps to u
 nderstand the principles of scenarios such as roof-rooms and offices in wa
 rehouses etc.\nFacilitated by Proficiency Chairman Ian Sturt\, there will 
 be an opportunity to ask about any geometry you struggle to model or featu
 res of the software you don't understand. Proficiency provides peer suppor
 t for DesignBuilder users via the dedicated section of our forum\, and thi
 s is intended to be an interactive extension of this. It will be an intera
 ctive session with live use of the software.\nThe session will consist of:
 \n\nA reminder of the underlying principles of DesignBuilder and how it is
  used for EPC purposes\nA refresher on some of the features including:\n\n
 Importing\, scaling and orientating 2D floor plans\nOutlines\nBoolean\nMer
 ging zones\n\n\nSpecific modelling examples including:\n\nZone within a zo
 ne\nMezzanines\nRoof-rooms and dormers\n\n\nAnswers to questions that have
  been submitted ahead of the session\nAnswers to questions from attendees 
 at the session\n\nTo get the most out of this session\, please think about
  which principles you don't really understand and/or parts of the modellin
 g process cause you the most concern. Email your list of those points and 
 an indication of what you are unsure of to events@proficiency.services wit
 h 'DesignBuilder Q&A'  in the subject line.\nAny questions we cannot satis
 factorily answer will be identified and referred to DesignBuilder for clar
 ification.\nThis event is FREE for Proficiency members. It is open to non-
 members at a cost of £20. (It makes more sense to join and get at least 12
  sessions like this for free in the year).\nAttendance certificates will b
 e added to the member's  CPD record. Non-members will be provided with an 
 attendance certificate to enable them to claim at least an hour of relevan
 t CPD. \nNOT A MEMBER? Join for just £60 and get free access to this and a
 t least 12 hours of CPD like this\, and a listing on the website.(For just
  £25 more\, as a Premium member get an enhanced listing and other benefits
 ).See Membership Benefits (proficiency.services)\nHOW IT WORKS - Please re
 ad carefully\nYou will be sent joining instructions and/or the relevant li
 nk ahead of the meeting. This is typically sent out about 1 day ahead of t
 he event. For online events we generally use Zoom.\nAround 24 hours ahead 
 of the event you will receive a link to register for the event. You can do
  this any time from then until just before the meeting starts. Once you ha
 ve registered you will receive the actual meeting link. Please ensure you 
 register using your correct full name. This ensures you will get the right
  name on your CPD certificate (if applicable)\,\n(If there is less than 24
  hours to go\, please check your junk / spam folder before contacting us t
 o say you haven't received the link. It will probably be there. If it is n
 ot then do contact events@proficiency.services but don't leave it to the l
 ast minute. Once we have started to set up for the session we will not be 
 able to take calls or respond to emails).\nPlease also ensure you have tes
 ted your set up and both your audio and video are working. If we cannot se
 e you are present we may not be able to issue you with a CPD certificate. 
 If you know in advance that you will not have video capability\, please em
 ail events@proficiency.services and we will agree an alternative way in wh
 ich the organisers can verify you were actually present (and hopefully pay
 ing attention) for the entire session.\nIf you need to briefly deal with s
 omething like an urgent phone call during the session\, please turn your v
 ideo off whilst you do so to avoid a distraction to other attendees. Video
  off for short periods of absence will not affect eligibility for CPD cert
 ificates. Prolonged periods of absence or where video is off so you could 
 be absent\, will prevent us being able to issue a CPD certificate. This ve
 rification of your presence is essential for us to ensure that the value o
 f Proficiency CPD certificates is maintained so they can be accepted by ac
 creditation schemes. \n(There are no refunds where CPD certificates cannot
  be issued due to only partial attendance at an event). https://proficienc
 y.services/events/events-calendar/event/328-proficiency-cpd-17th-october-2
 023-designbuilder-modelling
DTSTART:20231017T150000Z
DTEND:20231017T163000Z
LOCATION:Online ()
SUMMARY:Proficiency CPD (17th October 2023) - DesignBuilder Modelling
URL:https://proficiency.services/events/events-calendar/event/328-proficien
 cy-cpd-17th-october-2023-designbuilder-modelling
END:VEVENT
END:VCALENDAR
