BEGIN:VCALENDAR
VERSION:2.0
PRODID:-//https://proficiency.services///NONSGML kigkonsult.se iCalcreator 2.10.15//
METHOD:PUBLISH
BEGIN:VEVENT
UID:20260421T132416UTC-19879rMUiC@https://proficiency.services/
DTSTAMP:20260421T132416Z
DESCRIPTION:This is session is being repeated at the request of several mem
 bers\, although content will vary from the orginal if different points are
  sent in ahead of the session or raised on the day.Bookings for this event
  WILL CLOSE AT MID-DAY on 9th November\nDesignBuilder Modelling for EPCs.D
 esignBuilder is a comprehensive software and there are multiple ways to ap
 proach modelling some aspects. It is always useful to see how others do it
 \, and compare with what you do. This is a great opportunity to pick up ti
 ps that will improve your workflow. Even highly experienced DesignBuilder 
 users should have some 'I didn't realise I could do it that way' moments.
 \nPre-Booking is required.\nThis is an online CPD session primarily for ex
 isting DesignBuilder users\nIt will also be highly suitable for anyone con
 sidering whether to upgrade to using DesignBuilder.\nNDEAs who do not use 
 DesignBuilder\, or intend to do so\, may still benefit from seeing how env
 elopes are handled in 3D as it helps to understand the principles of scena
 rios such as roof-rooms and offices in warehouses etc.\nFacilitated by Pro
 ficiency Chairman Ian Sturt\, there will be an opportunity to ask about an
 y geometry you struggle to model or features of the software you don't und
 erstand. Proficiency provides peer support for DesignBuilder users via the
  dedicated section of our forum\, and this is intended to be an interactiv
 e extension of this. It will be an interactive session with live use of th
 e software.\nThe session will consist of:\n\nA reminder of the underlying 
 principles of DesignBuilder and how it is used for EPC purposes\nA refresh
 er on some of the features including:\n\nImporting\, scaling and orientati
 ng 2D floor plans\nOutlines\nBoolean\nMerging zones\n\n\nSpecific modellin
 g examples including:\n\nZone within a zone\nMezzanines\nRoof-rooms and do
 rmers\n\n\nAnswers to questions that have been submitted ahead of the sess
 ion\nAnswers to questions from attendees at the session\n\nTo get the most
  out of this session\, please think about which principles you don't reall
 y understand and/or parts of the modelling process cause you the most conc
 ern. Email your list of those points and an indication of what you are uns
 ure of to events@proficiency.services with 'DesignBuilder Q&A'  in the sub
 ject line.\nAny questions we cannot satisfactorily answer will be identifi
 ed and referred to DesignBuilder for clarification.\nThis event is FREE fo
 r Proficiency members. It is open to non-members at a cost of £20. (It mak
 es more sense to join and get at least 12 sessions like this for free in t
 he year).\nAttendance certificates will be added to the member's  CPD reco
 rd. Non-members will be provided with an attendance certificate to enable 
 them to claim at least an hour of relevant CPD. \nNOT A MEMBER? Join for j
 ust £60 and get free access to this and at least 12 hours of CPD like this
 \, and a listing on the website.(For just £25 more\, as a Premium member g
 et an enhanced listing and other benefits).See Membership Benefits (profic
 iency.services)\nHOW IT WORKS - Please read carefully\nYou will be sent jo
 ining instructions and/or the relevant link ahead of the meeting. This is 
 typically sent out about 1 day ahead of the event. For online events we ge
 nerally use Zoom.\nAround 24 hours ahead of the event you will receive a l
 ink to register for the event. You can do this any time from then until ju
 st before the meeting starts. Once you have registered you will receive th
 e actual meeting link. Please ensure you register using your correct full 
 name. This ensures you will get the right name on your CPD certificate (if
  applicable)\,\n(If there is less than 24 hours to go\, please check your 
 junk / spam folder before contacting us to say you haven't received the li
 nk. It will probably be there. If it is not then do contact events@profici
 ency.services but don't leave it to the last minute. Once we have started 
 to set up for the session we will not be able to take calls or respond to 
 emails).\nPlease also ensure you have tested your set up and both your aud
 io and video are working. If we cannot see you are present we may not be a
 ble to issue you with a CPD certificate. If you know in advance that you w
 ill not have video capability\, please email events@proficiency.services a
 nd we will agree an alternative way in which the organisers can verify you
  were actually present (and hopefully paying attention) for the entire ses
 sion.\nIf you need to briefly deal with something like an urgent phone cal
 l during the session\, please turn your video off whilst you do so to avoi
 d a distraction to other attendees. Video off for short periods of absence
  will not affect eligibility for CPD certificates. Prolonged periods of ab
 sence or where video is off so you could be absent\, will prevent us being
  able to issue a CPD certificate. This verification of your presence is es
 sential for us to ensure that the value of Proficiency CPD certificates is
  maintained so they can be accepted by accreditation schemes. \n(There are
  no refunds where CPD certificates cannot be issued due to only partial at
 tendance at an event). https://proficiency.services/events/events-calendar
 /event/335-proficiency-cpd-9th-november-2023-designbuilder-modelling
DTSTART:20231109T160000Z
DTEND:20231109T173000Z
LOCATION:Online ()
SUMMARY:Proficiency CPD (9th November 2023) - DesignBuilder Modelling
URL:https://proficiency.services/events/events-calendar/event/335-proficien
 cy-cpd-9th-november-2023-designbuilder-modelling
END:VEVENT
END:VCALENDAR
