BEGIN:VCALENDAR
VERSION:2.0
PRODID:-//https://proficiency.services///NONSGML kigkonsult.se iCalcreator 2.10.15//
METHOD:PUBLISH
BEGIN:VEVENT
UID:20260421T063416UTC-5132WmVRMM@https://proficiency.services/
DTSTAMP:20260421T063416Z
DESCRIPTION:This is not a Proficiency event but it is one we highly recomme
 nd. The PEPA conferences are an excellent opportunity to understand the wi
 der context of what we do. \nBooking is via Eventbrite. For more informati
 on and/or to book visit PEPA Conference 2024 Virtual Registration\, Wed 24
  Apr 2024 at 10:00 | Eventbrite \nThe price is just £65 and it is valid fo
 r up to 5 hours of CPD. \nCompared to your 12 hours plus of CPD included i
 n your Proficiency membership (at just £60 or £85) that may not look like 
 a bargain\, but the PEPA conference is high quality CPD and we believe wel
 l worth the cost.  \nIf you can only afford one or the other you will get 
 more from a Proficiency membership. However\, if you can afford both then 
 do both as they are both great value. https://proficiency.services/events/
 events-calendar/event/351-pepa-virtual-conference-2024
DTSTART:20240424T090000Z
DTEND:20240424T140000Z
LOCATION:Online ()
SUMMARY:PEPA Virtual Conference (2024)
URL:https://proficiency.services/events/events-calendar/event/351-pepa-virt
 ual-conference-2024
END:VEVENT
END:VCALENDAR
