BEGIN:VCALENDAR
VERSION:2.0
PRODID:-//https://proficiency.services///NONSGML kigkonsult.se iCalcreator 2.10.15//
METHOD:PUBLISH
BEGIN:VEVENT
UID:20260421T105341UTC-0069fKW1US@https://proficiency.services/
DTSTAMP:20260421T105341Z
DESCRIPTION:Bookings for this event will close at mid-day on 23rd January\n
 Changing minds\, reducing emissions and driving decarbonisation.A talk by 
 Matthew Hodges\; Low\, Zero Carbon Buildings Advocate and Associate Direct
 or - Net Zero & Sustainability at AtkinsRéalis.\nPre-Booking is required.
 \nOne of our regular (monthly) speaker meetings comprising an industry upd
 ate and a guest speaker from AtkinsRéalis.\nAtkinsRéalis are a leading des
 ign\, engineering and project management organisation that connects people
 \, data and technology to transform the world's infrastructure and energy 
 systems. \nMatthew Hodges has a passion for making a positive impact on ou
 r planet by driving sustainability initiatives across diverse industries\,
  with a particular focus on buildings and construction. He has a strong ba
 ckground in environmental\, social and governance (ESG)\, decarbonisation\
 , and achieving net zero goals.\nFollowing a brief introduction\, the agen
 da will be:\n\nProficiency brief update / industry news\nMain session - Ch
 anging minds\, reducing emissions and driving decarbonisation\, including.
 ..\n\nDebunking decarbonisation myths in housing retrofit\nWhen fabric fir
 st may not be the best and most appropriate solution\nAlternative approach
 es to achieving good carbon savings \nThe challenges of Retrofit delivery
 \nPotential conflicts between client needs and compliance with PAS2035\nQ&
 A \n\n\n\nWe will then pick up any specific AOB items tabled for the meeti
 ng or carried forward from the previous meeting.\nThis is followed by an o
 pen floor discussion and networking session to close the meeting. Expect t
 his to finish around 5:30 pm but allow some flexibility if you can as ther
 e is a lot to gained from the open discussions and networking at the end.
 \nThis event is FREE for Proficiency members. It is open to non-members at
  a cost of £20. (It makes more sense to join and get at least 12 sessions 
 like this for free in the year)\nAttendance certificates will be added to 
 the member's  CPD record. Non-members will be provided with an attendance 
 certificate to enable them to claim at least an hour of relevant CPD.\nNOT
  A MEMBER? Join for just £60 and get free access to this and at least 12 h
 ours of CPD like this\, and a listing on the website.(For just £25 more\, 
 as a Premium member get an enhanced listing and other benefits).See Member
 ship Benefits (proficiency.services)\nHOW IT WORKS - Please read carefully
 \nYou will be sent joining instructions and/or the relevant link ahead of 
 the meeting. This is typically sent out about 1 day ahead of the event. Fo
 r online events we generally use Zoom.\nAround 24 hours ahead of the event
  you will receive a link to register for the event. You can do this any ti
 me from then until just before the meeting starts. Once you have registere
 d you will receive the actual meeting link. Please ensure you register usi
 ng your correct full name. This ensures you will get the right name on you
 r CPD certificate (if applicable)\,\n(If there is less than 24 hours to go
 \, please check your junk / spam folder before contacting us to say you ha
 ven't received the link. It will probably be there. If it is not then do c
 ontact events@proficiency.services but don't leave it to the last minute. 
 Once we have started to set up for the session we will not be able to take
  calls or respond to emails).\nPlease also ensure you have tested your set
  up and both your audio and video are working. If we cannot see you are pr
 esent we may not be able to issue you with a CPD certificate. If you know 
 in advance that you will not have video capability\, please email events@p
 roficiency.services and we will agree an alternative way in which the orga
 nisers can verify you were actually present (and hopefully paying attentio
 n) for the entire session.\nIf you need to briefly deal with something lik
 e an urgent phone call during the session\, please turn your video off whi
 lst you do so to avoid a distraction to other attendees. Video off for sho
 rt periods of absence will not affect eligibility for CPD certificates. Pr
 olonged periods of absence or where video is off so you could be absent\, 
 will prevent us being able to issue a CPD certificate. This verification o
 f your presence is essential for us to ensure that the value of Proficienc
 y CPD certificates is maintained so they can be accepted by accreditation 
 schemes. \n(There are no refunds where CPD certificates cannot be issued d
 ue to only partial attendance at an event). https://proficiency.services/e
 vents/events-calendar/event/339-cpd-speaker-meeting-23rd-jan-2024-changing
 -minds-reducing-emissions-and-driving-decarbonisation
DTSTART:20240123T160000Z
DTEND:20240123T173000Z
LOCATION:Online ()
SUMMARY:CPD Speaker Meeting (23rd Jan 2024) - Changing minds\, reducing emi
 ssions and driving decarbonisation
URL:https://proficiency.services/events/events-calendar/event/339-cpd-speak
 er-meeting-23rd-jan-2024-changing-minds-reducing-emissions-and-driving-dec
 arbonisation
END:VEVENT
END:VCALENDAR
