BEGIN:VCALENDAR
VERSION:2.0
PRODID:-//https://proficiency.services///NONSGML kigkonsult.se iCalcreator 2.10.15//
METHOD:PUBLISH
BEGIN:VEVENT
UID:20260421T063416UTC-5808TfKJA1@https://proficiency.services/
DTSTAMP:20260421T063416Z
DESCRIPTION:This session is repeated periodically\, although content will v
 ary each time as it is tailored to address points sent in ahead of the ses
 sion or raised on the day.Bookings for this event WILL CLOSE AT MIDNIGHT T
 HE DAY BEFORE THE EVENT\nNon-domestic Conventions Q&A. Repeated due to pop
 ular demand.An opportunity to gain a better understanding of the non-domes
 tic conventions and how to apply them.\nPre-Booking is required.\nThis is 
 a CPD session specifically for NDEAs\nFacilitated by Proficiency Chairman 
 Ian Sturt\, there will be an opportunity to ask about any of the conventio
 ns you are not clear on.\nIan has been involved with the conventions group
 s since early 2011 and has been the primary author of\, or contributed to 
 develoment of\, a significant proportion of the conventions. There are few
  people in the industry with a better understanding of why they are writte
 n the way they are.\nThe session will consist of:\n\nA summary of the conv
 entions process\nWhat the conventions group can and cannot do\nAnswers to 
 questions that have been submitted ahead of the session\nAnswers to questi
 ons from attendees at the session\nIf time permits\, Ian will then talk th
 rough some of the conventions that assessors seem to be most prone to gett
 ing wrong.\n\nTo get the most out of this session\, please think about whi
 ch conventions you don't really understand. Email your list of those conve
 ntions and an indication of what you are unsure of to events@proficiency.s
 ervices with 'Non-domestic Conventions Q&A'  in the subject line.\nAny con
 ventions we cannot satisfactorily explain will be identified and referred 
 to the conventions group for clarification.\nThis event is FREE for Profic
 iency members. It is open to non-members at a cost of £25. (It makes more 
 sense to join and get at least 12 sessions like this for free in the year)
 .\nAttendance certificates will be added to the member's  CPD record. Non-
 members will be provided with an attendance certificate to enable them to 
 claim at least an hour of relevant CPD. \nNOT A MEMBER? Join for just £60 
 and get free access to this and at least 12 hours of CPD like this\, and a
  listing on the website.(For just £25 more\, as a Premium member get an en
 hanced listing and other benefits).See Membership Benefits (proficiency.se
 rvices)\nHOW IT WORKS - Please read carefully\nYou will be sent joining in
 structions and/or the relevant link ahead of the meeting. This is typicall
 y sent out about 1 day ahead of the event. For online events we generally 
 use Zoom.\nAround 24 hours ahead of the event you will receive a link to r
 egister for the event. You can do this any time from then until just befor
 e the meeting starts. Once you have registered you will receive the actual
  meeting link. Please ensure you register using your correct full name. Th
 is ensures you will get the right name on your CPD certificate (if applica
 ble)\,\n(If there is less than 24 hours to go\, please check your junk / s
 pam folder before contacting us to say you haven't received the link. It w
 ill probably be there. If it is not then do contact events@proficiency.ser
 vices but don't leave it to the last minute. Once we have started to set u
 p for the session we will not be able to take calls or respond to emails).
 \nPlease also ensure you have tested your set up and both your audio and v
 ideo are working. If we cannot see you are present we may not be able to i
 ssue you with a CPD certificate. If you know in advance that you will not 
 have video capability\, please email events@proficiency.services and we wi
 ll agree an alternative way in which the organisers can verify you were ac
 tually present (and hopefully paying attention) for the entire session.\nI
 f you need to briefly deal with something like an urgent phone call during
  the session\, please turn your video off whilst you do so to avoid a dist
 raction to other attendees. Video off for short periods of absence will no
 t affect eligibility for CPD certificates. Prolonged periods of absence or
  where video is off so you could be absent\, will prevent us being able to
  issue a CPD certificate. This verification of your presence is essential 
 for us to ensure that the value of Proficiency CPD certificates is maintai
 ned so they can be accepted by accreditation schemes. \n(There are no refu
 nds where CPD certificates cannot be issued due to only partial attendance
  at an event). https://proficiency.services/events/events-calendar/event/3
 49-proficiency-cpd-11th-april-2024-non-domestic-conventions-q-a
DTSTART:20240411T150000Z
DTEND:20240411T163000Z
LOCATION:Online ()
SUMMARY:Proficiency CPD (11th April 2024) - Non-domestic Conventions Q&A
URL:https://proficiency.services/events/events-calendar/event/349-proficien
 cy-cpd-11th-april-2024-non-domestic-conventions-q-a
END:VEVENT
END:VCALENDAR
