BEGIN:VCALENDAR
VERSION:2.0
PRODID:-//https://proficiency.services///NONSGML kigkonsult.se iCalcreator 2.10.15//
METHOD:PUBLISH
BEGIN:VEVENT
UID:20260420T143513UTC-5476USv250@https://proficiency.services/
DTSTAMP:20260420T143513Z
DESCRIPTION:Floor plans for the Estate agency market\nFurther details on th
 e session content will be added soon.\nThis event is FREE for Proficiency 
 members. It is open to non-members at a cost of £25. (It makes more sense 
 to join and get at least 12 sessions like this for free in the year)\nAtte
 ndance certificates will be added to the member's  CPD record. Non-members
  will be provided with an attendance certificate to enable them to claim a
 t least an hour of relevant CPD.\nNOT A MEMBER? Join for just £60 and get 
 free access to this and at least 12 hours of CPD like this\, and a listing
  on the website.(For just £25 more\, as a Premium member get an enhanced l
 isting and other benefits).See Membership Benefits (proficiency.services)
 \n \nHOW IT WORKS - Please read carefully\nYou will be sent joining instru
 ctions and/or the relevant link ahead of the meeting. This is typically se
 nt out about 1 day ahead of the event. For online events we generally use 
 Zoom.\nAround 24 hours ahead of the event you will receive a link to regis
 ter for the event. You can do this any time from then until just before th
 e meeting starts. Once you have registered you will receive the actual mee
 ting link. Please ensure you register using your correct full name. This e
 nsures you will get the right name on your CPD certificate (if applicable)
 \,\n(If there is less than 24 hours to go\, please check your junk / spam 
 folder before contacting us to say you haven't received the link. It will 
 probably be there. If it is not then do contact events@proficiency.service
 s but don't leave it to the last minute. Once we have started to set up fo
 r the session we will not be able to take calls or respond to emails).\nPl
 ease also ensure you have tested your set up and both your audio and video
  are working. If we cannot see you are present we may not be able to issue
  you with a CPD certificate. If you know in advance that you will not have
  video capability\, please email events@proficiency.services and we will a
 gree an alternative way in which the organisers can verify you were actual
 ly present (and hopefully paying attention) for the entire session.\nIf yo
 u need to briefly deal with something like an urgent phone call during the
  session\, please turn your video off whilst you do so to avoid a distract
 ion to other attendees. Video off for short periods of absence will not af
 fect eligibility for CPD certificates. Prolonged periods of absence or whe
 re video is off so you could be absent\, will prevent us being able to iss
 ue a CPD certificate. This verification of your presence is essential for 
 us to ensure that the value of Proficiency CPD certificates is maintained 
 so they can be accepted by accreditation schemes. \n(There are no refunds 
 where CPD certificates cannot be issued due to only partial attendance at 
 an event). https://proficiency.services/events/events-calendar/event/375-c
 pd-speaker-meeting-16th-april-2025-floor-plans-metropix
DTSTART:20250416T150000Z
DTEND:20250416T163000Z
LOCATION:Online ()
SUMMARY:CPD Speaker Meeting (16th April 2025) - Floor plans (Metropix)
URL:https://proficiency.services/events/events-calendar/event/375-cpd-speak
 er-meeting-16th-april-2025-floor-plans-metropix
END:VEVENT
BEGIN:VEVENT
UID:20260420T143513UTC-5480VxvfLC@https://proficiency.services/
DTSTAMP:20260420T143513Z
DESCRIPTION:MEMBERS ONLY\nThis is NOT a standard CPD event.\nThis is the 'o
 nboarding' for Proficiency members interested to trial (for FREE) the VUAB
 L software for producing floor plans simply from scanning the rooms.\nTo b
 e included in the trial\, you need to register for the event here. You wil
 l then be sent a link to the onboarding session scheduled for Monday 14th 
 April at 4 pm. You will also need to have access to an iPhone 12 Pro or ab
 ove (including iPad Pro). The floor plan scanning runs on iOS software and
  uses the phone's LIDAR scanner.\n(If you don't have a suitable phone\, pe
 rhaps you can borrow one).\nYou will be expected to try out the software a
 nd feed back how it works. There is no commitment beyond that at this stag
 e. This is simply the first step towards creating a Proficiency Member Gro
 up  arrangement so those membesr who wish to continue using the software c
 an do so at a highly advantageous price.\nWe will try and create further o
 pportunities for people who cannot manage to get to this initial session\,
  but this is the one to get on if you can for maximum benefit. At this sta
 ge we will not be able to trial the integration through into an EPC softwa
 re. That is probably still a couple of months away. https://proficiency.se
 rvices/events/events-calendar/event/380-xxtrial-of-vuabl-software-complete
 -floor-plans-by-lidar-scanning
DTSTART:20250414T150000Z
DTEND:20250414T160000Z
LOCATION:Online ()
SUMMARY:xxTrial of VUABL software - Complete floor plans by LIDAR scanning
URL:https://proficiency.services/events/events-calendar/event/380-xxtrial-o
 f-vuabl-software-complete-floor-plans-by-lidar-scanning
END:VEVENT
BEGIN:VEVENT
UID:20260420T143513UTC-5482TJvst3@https://proficiency.services/
DTSTAMP:20260420T143513Z
DESCRIPTION:MEMBERS ONLY\nThis is NOT a standard CPD event.\nThis is the 'o
 nboarding' for Proficiency members interested to trial (for FREE) the VUAB
 L software for producing floor plans simply from scanning the rooms.\nTo b
 e included in the trial\, you need to register for the event here. You wil
 l then be sent a link to the onboarding session scheduled for Monday 14th 
 April at 4 pm. You will also need to have access to an iPhone 12 Pro or ab
 ove (including iPad Pro). The floor plan scanning runs on iOS software and
  uses the phone's LIDAR scanner.\n(If you don't have a suitable phone\, pe
 rhaps you can borrow one).\nYou will be expected to try out the software a
 nd feed back how it works. There is no commitment beyond that at this stag
 e. This is simply the first step towards creating a Proficiency Member Gro
 up  arrangement so those membes who wish to continue using the software ca
 n do so at a highly advantageous price.\nWe will try and create further op
 portunities for people who cannot manage to get to this initial session\, 
 but this is the one to get on if you can for maximum benefit. At this stag
 e we will not be able to trial the integration through into an EPC softwar
 e. That is probably still a couple of months away. https://proficiency.ser
 vices/events/events-calendar/event/381-trial-of-vuabl-software-complete-fl
 oor-plans-by-lidar-scanning
DTSTART:20250414T150000Z
DTEND:20250414T163000Z
LOCATION:Online ()
SUMMARY:Trial of VUABL software - Complete floor plans by LIDAR scanning
URL:https://proficiency.services/events/events-calendar/event/381-trial-of-
 vuabl-software-complete-floor-plans-by-lidar-scanning
END:VEVENT
END:VCALENDAR
