BEGIN:VCALENDAR
VERSION:2.0
PRODID:-//https://proficiency.services///NONSGML kigkonsult.se iCalcreator 2.10.15//
METHOD:PUBLISH
BEGIN:VEVENT
UID:20260422T132553UTC-4626Ul9urT@https://proficiency.services/
DTSTAMP:20260422T132553Z
DESCRIPTION:This is not a Proficiency event but is one being provided by PE
 PA\, an industry partner. It needs to be booked directly with PEPA using t
 his link CLICK HERE\nThis is a recommended event for our members and for e
 nergy assessors in general.\n(Originally scheduled for 23rd March this has
  been pushed back to 27th April to ensure details of ECO4 are finalised so
  it can be properly covered) https://proficiency.services/events/events-ca
 lendar/event/286-pepa-conference-2022-virtual
DTSTART:20220427T083000Z
DTEND:20220427T140000Z
LOCATION:Online ()
SUMMARY:PEPA Conference 2022 Virtual
URL:https://proficiency.services/events/events-calendar/event/286-pepa-conf
 erence-2022-virtual
END:VEVENT
BEGIN:VEVENT
UID:20260422T132553UTC-4628hlD9tw@https://proficiency.services/
DTSTAMP:20260422T132553Z
DESCRIPTION:This is an opportunity for the Residential Property Surverors A
 ssociation (RPSA) members\, non-members\, students\, or anyone with an int
 erest in surveying to meet up with RPSA Council members\, colleagues and c
 ontacts to find out more about the industry and the activities of the RPSA
 .\n(This is not a Proficiency organised event)\nDetails at https://www.rps
 a.org.uk/News-Events?ev=11 https://proficiency.services/events/events-cale
 ndar/event/293-rpsa-meet-greet-bridgwater
DTSTART:20220426T170000Z
DTEND:20220426T200000Z
LOCATION:Bridgwater (Mercure Bridgwater Hotel\, 56-66 Eastover\, Bridgwater
  TA6 5AR\, UK)
SUMMARY:RPSA Meet & Greet - Bridgwater 
URL:https://proficiency.services/events/events-calendar/event/293-rpsa-meet
 -greet-bridgwater
END:VEVENT
END:VCALENDAR
