BEGIN:VCALENDAR
VERSION:2.0
PRODID:-//https://proficiency.services///NONSGML kigkonsult.se iCalcreator 2.10.15//
METHOD:PUBLISH
BEGIN:VEVENT
UID:20260421T144141UTC-0845CoRBAg@https://proficiency.services/
DTSTAMP:20260421T144141Z
DESCRIPTION:Bookings for this event WILL CLOSE AT MID-DAY on 12th October\n
 DEC Assessor Q&A.An opportunity to gain a better understanding of the unde
 rlying principles and how to apply them to produce accurate DECs and high 
 quality Recommendation Reports.\nPre-Booking is required.\nThis is a CPD s
 ession specifically for DEC Assessors (or trainee DEC Assessors)\nFacilita
 ted by Proficiency Chairman Ian Sturt\, there will be an opportunity to as
 k about any of the principles or conventions you are not clear on.\nIan ha
 s been involved with DECs since 2008\, is a primary contributor to the DEC
  conventions group (currently inactive) and has provided DECs for many dif
 ferent types of public sector organisation. There are few people in the in
 dustry with more experience and history of engagement at a strategic level
 .\nThe session will consist of:\n\nA reminder of the underlying regulation
 s and guidance\nA review of the DEC conventions\nSome usful tips and resou
 rces\nAnswers to questions that have been submitted ahead of the session\n
 Answers to questions from attendees at the session\nIf time permits\, Ian 
 will then talk through some of the things that assessors seem to be most p
 rone to getting wrong.\n\nTo get the most out of this session\, please thi
 nk about which principles you don't really understand and/or parts of the 
 process cause you the most concern. Email your list of those points and an
  indication of what you are unsure of to events@proficiency.services with 
 'DEC Q&A'  in the subject line.\nAny questions we cannot satisfactorily an
 swer will be identified and referred to the conventions group\, schemes or
  DLUHC for clarification.\nThis event is FREE for Proficiency members. It 
 is open to non-members at a cost of £20. (It makes more sense to join and 
 get at least 12 sessions like this for free in the year).\nAttendance cert
 ificates will be added to the member's  CPD record. Non-members will be pr
 ovided with an attendance certificate to enable them to claim at least an 
 hour of relevant CPD. \nNOT A MEMBER? Join for just £60 and get free acces
 s to this and at least 12 hours of CPD like this\, and a listing on the we
 bsite.(For just £25 more\, as a Premium member get an enhanced listing and
  other benefits).See Membership Benefits (proficiency.services)\nHOW IT WO
 RKS - Please read carefully\nYou will be sent joining instructions and/or 
 the relevant link ahead of the meeting. This is typically sent out about 1
  day ahead of the event. For online events we generally use Zoom.\nAround 
 24 hours ahead of the event you will receive a link to register for the ev
 ent. You can do this any time from then until just before the meeting star
 ts. Once you have registered you will receive the actual meeting link. Ple
 ase ensure you register using your correct full name. This ensures you wil
 l get the right name on your CPD certificate (if applicable)\,\n(If there 
 is less than 24 hours to go\, please check your junk / spam folder before 
 contacting us to say you haven't received the link. It will probably be th
 ere. If it is not then do contact events@proficiency.services but don't le
 ave it to the last minute. Once we have started to set up for the session 
 we will not be able to take calls or respond to emails).\nPlease also ensu
 re you have tested your set up and both your audio and video are working. 
 If we cannot see you are present we may not be able to issue you with a CP
 D certificate. If you know in advance that you will not have video capabil
 ity\, please email events@proficiency.services and we will agree an altern
 ative way in which the organisers can verify you were actually present (an
 d hopefully paying attention) for the entire session.\nIf you need to brie
 fly deal with something like an urgent phone call during the session\, ple
 ase turn your video off whilst you do so to avoid a distraction to other a
 ttendees. Video off for short periods of absence will not affect eligibili
 ty for CPD certificates. Prolonged periods of absence or where video is of
 f so you could be absent\, will prevent us being able to issue a CPD certi
 ficate. This verification of your presence is essential for us to ensure t
 hat the value of Proficiency CPD certificates is maintained so they can be
  accepted by accreditation schemes. \n(There are no refunds where CPD cert
 ificates cannot be issued due to only partial attendance at an event). htt
 ps://proficiency.services/events/events-calendar/event/327-proficiency-cpd
 -12th-october-2023-dec-assessor-q-a
DTSTART:20231012T150000Z
DTEND:20231012T163000Z
LOCATION:Online ()
SUMMARY:Proficiency CPD (12th October 2023) - DEC Assessor Q&A
URL:https://proficiency.services/events/events-calendar/event/327-proficien
 cy-cpd-12th-october-2023-dec-assessor-q-a
END:VEVENT
END:VCALENDAR
