BEGIN:VCALENDAR
VERSION:2.0
PRODID:-//https://proficiency.services///NONSGML kigkonsult.se iCalcreator 2.10.15//
METHOD:PUBLISH
BEGIN:VEVENT
UID:20260421T132529UTC-5300cRMwgT@https://proficiency.services/
DTSTAMP:20260421T132529Z
DESCRIPTION:Bookings for this event WILL CLOSE AT MID-DAY on 22nd November 
 (Unless fully booked earlier)\nDomestic Conventions Q&A. (Repeated due to 
 popular demand)An opportunity to gain a better understanding of the domest
 ic conventions and how to apply them.\nPre-Booking is required.\nThis is a
  CPD session specifically for DEAs\nFacilitated by Proficiency Chairman Ia
 n Sturt\, there will be an opportunity to ask about any of the conventions
  you are not clear on.\nIan has been involved with the conventions groups 
 since early 2011 and has been the primary author of\, or contributed to de
 veloment of\, a significant proportion of the conventions. There are few p
 eople in the industry with a better understanding of why they are written 
 the way they are.\nThe session will consist of:\n\nA summary of the conven
 tions process\nWhat the conventions group can and cannot do\nAnswers to qu
 estions that have been submitted ahead of the session\nAnswers to question
 s from attendees at the session\nIf time permits\, Ian will then talk thro
 ugh some of the conventions that assessors seem to be most prone to gettin
 g wrong.\n\nTo get the most out of this session\, please think about which
  conventions you don't really understand. Email your list of those convent
 ions and an indication of what you are unsure of to events@proficiency.ser
 vices with 'Domestic Conventions Q&A'  in the subject line.\nAny conventio
 ns we cannot satisfactorily explain will be identified and referred to the
  conventions group for clarification.\nThis event is FREE for Proficiency 
 members. It is open to non-members at a cost of £20. (It makes more sense 
 to join and get at least 12 sessions like this for free in the year).\nAtt
 endance certificates will be added to the member's  CPD record. Non-member
 s will be provided with an attendance certificate to enable them to claim 
 at least an hour of relevant CPD. \nNOT A MEMBER? Join for just £60 and ge
 t free access to this and at least 12 hours of CPD like this\, and a listi
 ng on the website.(For just £25 more\, as a Premium member get an enhanced
  listing and other benefits).See Membership Benefits (proficiency.services
 )\nHOW IT WORKS - Please read carefully\nYou will be sent joining instruct
 ions and/or the relevant link ahead of the meeting. This is typically sent
  out about 1 day ahead of the event. For online events we generally use Zo
 om.\nAround 24 hours ahead of the event you will receive a link to registe
 r for the event. You can do this any time from then until just before the 
 meeting starts. Once you have registered you will receive the actual meeti
 ng link. Please ensure you register using your correct full name. This ens
 ures you will get the right name on your CPD certificate (if applicable)\,
 \n(If there is less than 24 hours to go\, please check your junk / spam fo
 lder before contacting us to say you haven't received the link. It will pr
 obably be there. If it is not then do contact events@proficiency.services 
 but don't leave it to the last minute. Once we have started to set up for 
 the session we will not be able to take calls or respond to emails).\nPlea
 se also ensure you have tested your set up and both your audio and video a
 re working. If we cannot see you are present we may not be able to issue y
 ou with a CPD certificate. If you know in advance that you will not have v
 ideo capability\, please email events@proficiency.services and we will agr
 ee an alternative way in which the organisers can verify you were actually
  present (and hopefully paying attention) for the entire session.\nIf you 
 need to briefly deal with something like an urgent phone call during the s
 ession\, please turn your video off whilst you do so to avoid a distractio
 n to other attendees. Video off for short periods of absence will not affe
 ct eligibility for CPD certificates. Prolonged periods of absence or where
  video is off so you could be absent\, will prevent us being able to issue
  a CPD certificate. This verification of your presence is essential for us
  to ensure that the value of Proficiency CPD certificates is maintained so
  they can be accepted by accreditation schemes. \n(There are no refunds wh
 ere CPD certificates cannot be issued due to only partial attendance at an
  event). https://proficiency.services/events/events-calendar/event/331-pro
 ficiency-cpd-22nd-november-2023-domestic-conventions-q-a
DTSTART:20231122T160000Z
DTEND:20231122T173000Z
LOCATION:Online ()
SUMMARY:Proficiency CPD (22nd November 2023) - Domestic Conventions Q&A
URL:https://proficiency.services/events/events-calendar/event/331-proficien
 cy-cpd-22nd-november-2023-domestic-conventions-q-a
END:VEVENT
BEGIN:VEVENT
UID:20260421T132529UTC-5305VpxMob@https://proficiency.services/
DTSTAMP:20260421T132529Z
DESCRIPTION:This is not a Proficiency event\, but it is one where Proficien
 cy members are eligible for a discounted rate.\nProficiency members will r
 eceive a 10% discount by using the exclusive Proficiency discount code tha
 t can be accessed on the forum at\nhttps://proficiency.services/forum/cont
 inuing-professional-development/1938-quidos-rdsap-10-roadshow-oct-dec-2023
 #9284\n(A current Proficiency membership will be required to access the fo
 rum and collect the discount code).\nThe booking link is Click Here\nThere
  are expected to be further dates for London and Manchester. This event wi
 ll provide 5 hours of face-to-face CPD for those seeking a break from onli
 ne events. https://proficiency.services/events/events-calendar/event/338-q
 uidos-rdsap10-training-roadshow-manchester
DTSTART:20231120T100000Z
DTEND:20231120T160000Z
LOCATION:Novotel Manchester West (Worsley Brow\, Worsley\, Manchester\, M28
  2YA)
SUMMARY:Quidos RdSAP10 Training Roadshow (Manchester)
URL:https://proficiency.services/events/events-calendar/event/338-quidos-rd
 sap10-training-roadshow-manchester
END:VEVENT
END:VCALENDAR
