BEGIN:VCALENDAR
VERSION:2.0
PRODID:-//https://proficiency.services///NONSGML kigkonsult.se iCalcreator 2.10.15//
METHOD:PUBLISH
BEGIN:VEVENT
UID:20260420T040815UTC-81940EUJ1F@https://proficiency.services/
DTSTAMP:20260420T040815Z
DESCRIPTION:This event is not hosted by Proficiency!As last year\, the PEPA
  conference will be at Riverside Court\, Pride Park\, Derby DE24 8HY and i
 t is going to be on Tuesday 2nd December. As associate members of PEPA\, P
 roficiency will have some involvement on the day but exactly how much will
  be established between now and then.All members are encouraged to attend 
 the conference if you can\, and to support and promote Proficiency on the 
 day as much as possible.The code to get your £10 Proficiency member discou
 nt is Prof25  -  This is an exclusive discount for Proficiency members and
  the code must not be shared with non-members.Bookings can be made here - 
  PEPA Conference 2025 Tickets\, Tue 2 Dec 2025 at 09:30 | Eventbrite\nPEPA
  has held successful in-person and virtual conferences for energy assessor
 s since 2018 with over 300 delegates in attendance\, representing all cate
 gories of energy assessors both domestic and non-domestic.\nThis year\, th
 ere will be a great line-up of speakers including those from MHCLG\, DESNZ
 \, and the Scottish Government. The day will conclude with the ever popula
 r panel session with scheme members. Further details available shortly.\nI
 t is be a great opportunity to network in person as well as hearing first 
 hand all the latest industry news.\n5 hours of CPD.\nLunch and refreshment
 s are included.\nPEPA Contact details:\nTel: 0800 0499 907\nemail: info@pe
 passociation.org https://proficiency.services/events/events-calendar/event
 /404-pepa-conference-2025
DTSTART:20251202T093000Z
DTEND:20251202T161500Z
LOCATION:Riverside Centre (Reach Events) in Derby (The Riverside Centre\, R
 iverside Road\, Derby\, DE24 8HY)
SUMMARY:PEPA Conference 2025
URL:https://proficiency.services/events/events-calendar/event/404-pepa-conf
 erence-2025
END:VEVENT
BEGIN:VEVENT
UID:20260420T040815UTC-8196xTMNCX@https://proficiency.services/
DTSTAMP:20260420T040815Z
DESCRIPTION:Pre-Booking is required.Places are strictly limited for worksho
 p sessions.  Bookings for this event will close at midnight the day before
  the event or as soon as all tickets are booked.\nMember Workshop: Open Fo
 rum Q&A on Challenges for Retrofit Assessors and Coordinators\nThis sessio
 n will be hosted by Proficiency\n \nThis is an interactive open forum disc
 ussion tailored exclusively for those actively working in retrofit. Join f
 ellow Pro Members for a focused session exploring the real-world hurdles f
 aced by Retrofit Assessors and Coordinators and how they can overcome them
 .\nKey Details\n\nFormat: Facilitated group discussion (minimum 1½ hours)
 \nParticipation: The session relies on participation from the group\, and 
 we would ask all to contribute\; submit agenda topics in advance using the
  google form.\nEligibility: Strictly limited to Pro Members (Standard Memb
 ers must upgrade to attend)\n\nWorkshop Objectives\n\nIdentify recurring c
 hallenges encountered by retrofit professionals.\nShare past incidents and
  lessons learned from colleagues’ experiences.\nEstablish best-practice ap
 proaches where possible.\nPropose new conventions or refinements to existi
 ng ones for Proficiency to advocate for in the conventions group.\nRecomme
 nd software enhancements for Proficiency to pursue.\nEvaluate the need for
  new or updated guidance.\nChallenge accreditation schemes on problematic 
 approaches.\nUncover opportunities to better support our members.\n\nSpace
 s are extremely limited\, secure your place today!\n \nQuestions can be su
 bmitted using this link please only ask the question if you are attending.
 \n \nExpect this to finish around 17:30 but allow some flexibility if you 
 can.\nThis event is FREE for Proficiency Members only\nThis will qualify a
 s certificated attendance CPD and be added to the member's CPD record. \nN
 OT A MEMBER? Join for just £60 and get free access to at least 12 hours of
  CPD and a listing on the website. (For just £25 more\, as a Premium membe
 r get an enhanced listing\, access to premium CPD events and other benefit
 s).See Membership Benefits (proficiency.services)\n \nHOW IT WORKS - Pleas
 e read carefully\nYou will be sent joining instructions and/or the relevan
 t link ahead of the meeting. This is typically sent out about 1 day ahead 
 of the event. For online events we generally use Zoom.\nAround 24 hours ah
 ead of the event you will receive a link to register for the event. You ca
 n do this any time from then until just before the meeting starts. Once yo
 u have registered you will receive the actual meeting link. Please ensure 
 you register using your correct full name. This ensures you will get the r
 ight name on your CPD certificate (if applicable)\,\n(If there is less tha
 n 24 hours to go\, please check your junk / spam folder before contacting 
 us to say you haven't received the link. It will probably be there. If it 
 is not then do contact events@proficiency.services but don't leave it to t
 he last minute. Once we have started to set up for the session we will not
  be able to take calls or respond to emails).\nPlease also ensure you have
  tested your set up and both your audio and video are working. If we canno
 t see you are present we may not be able to issue you with a CPD certifica
 te. If you know in advance that you will not have video capability\, pleas
 e email events@proficiency.services and we will agree an alternative way i
 n which the organisers can verify you were actually present (and hopefully
  paying attention) for the entire session.\nIf you need to briefly deal wi
 th something like an urgent phone call during the session\, please turn yo
 ur video off whilst you do so to avoid a distraction to other attendees. V
 ideo off for short periods of absence will not affect eligibility for CPD 
 certificates. Prolonged periods of absence or where video is off so you co
 uld be absent\, will prevent us being able to issue a CPD certificate. Thi
 s verification of your presence is essential for us to ensure that the val
 ue of Proficiency CPD certificates is maintained so they can be accepted b
 y accreditation schemes. \n(There are no refunds where CPD certificates ca
 nnot be issued due to only partial attendance at an event). https://profic
 iency.services/events/events-calendar/event/408-proficiency-member-worksho
 p-4th-december-2025-open-forum-q-a-on-challenges-for-retrofit-assessors-an
 d-coordinators
DTSTART:20251204T160000Z
DTEND:20251204T173000Z
LOCATION:Online ()
SUMMARY:Proficiency Member Workshop (4th December 2025) Open Forum Q&A on C
 hallenges for Retrofit Assessors and Coordinators
URL:https://proficiency.services/events/events-calendar/event/408-proficien
 cy-member-workshop-4th-december-2025-open-forum-q-a-on-challenges-for-retr
 ofit-assessors-and-coordinators
END:VEVENT
END:VCALENDAR
